BEGIN:VCALENDAR
VERSION:2.0
PRODID:Events Booking
BEGIN:VEVENT
UID:69e6c98b3c213
SUMMARY:2020 Big Stick Surfing Association LogJam in Santa Cruz\, Califor
 nia @ Pleasure Point
DESCRIPTION:Big Stick Surfing Association&nbsp\;LogJam in&nbsp\;Santa Cruz\
 , California @ Pleasure Point
DTSTART:20200425T140000Z
DTEND:20200426T220000Z
DTSTAMP:20260421T004915Z
ORGANIZER;CN=Pacific Beach Surf Club:MAILTO:waves@pacificbeachsurfclub.com
END:VEVENT
END:VCALENDAR